BEGIN:VCALENDAR
VERSION:2.0
PRODID:-//P&#039;s Phillys - ECPv6.1.2.2//NONSGML v1.0//EN
CALSCALE:GREGORIAN
METHOD:PUBLISH
X-ORIGINAL-URL:https://psphillys.com
X-WR-CALDESC:Events for P&#039;s Phillys
REFRESH-INTERVAL;VALUE=DURATION:PT1H
X-Robots-Tag:noindex
X-PUBLISHED-TTL:PT1H
BEGIN:VTIMEZONE
TZID:America/Los_Angeles
BEGIN:DAYLIGHT
TZOFFSETFROM:-0800
TZOFFSETTO:-0700
TZNAME:PDT
DTSTART:20240310T100000
END:DAYLIGHT
BEGIN:STANDARD
TZOFFSETFROM:-0700
TZOFFSETTO:-0800
TZNAME:PST
DTSTART:20241103T090000
END:STANDARD
END:VTIMEZONE
BEGIN:VEVENT
DTSTART;TZID=America/Los_Angeles:20240629T221500
DTEND;TZID=America/Los_Angeles:20240629T231500
DTSTAMP:20260420T105941
CREATED:20240630T043814Z
LAST-MODIFIED:20240630T043814Z
UID:10000187-1719699300-1719702900@psphillys.com
SUMMARY:Reservation at Toca Madera West Hollywood
DESCRIPTION:To see detailed information for automatically created events like this one\, use the official Google Calendar app. https://g.co/calendar \nThis event was created from an email you received in Gmail. https://mail.google.com/mail?extsrc=cal&plid=ACUX6DNkWDOQuvyvI5cOdQZ6s7Kox5F8VtDx4Us
URL:https://psphillys.com/event/reservation-at-toca-madera-west-hollywood/
LOCATION:Toca Madera West Hollywood\, 8450 W 3rd St\, Los Angeles\, CA 90048
ORGANIZER;CN="lauren.farrell%40offthegridsf.com":MAILTO:lauren_farrell@offthegridsf_com
END:VEVENT
END:VCALENDAR