BEGIN:VCALENDAR
VERSION:2.0
PRODID:-//P&#039;s Phillys - ECPv6.1.2.2//NONSGML v1.0//EN
CALSCALE:GREGORIAN
METHOD:PUBLISH
X-WR-CALNAME:P&#039;s Phillys
X-ORIGINAL-URL:https://psphillys.com
X-WR-CALDESC:Events for P&#039;s Phillys
REFRESH-INTERVAL;VALUE=DURATION:PT1H
X-Robots-Tag:noindex
X-PUBLISHED-TTL:PT1H
BEGIN:VTIMEZONE
TZID:America/Los_Angeles
BEGIN:DAYLIGHT
TZOFFSETFROM:-0800
TZOFFSETTO:-0700
TZNAME:PDT
DTSTART:20230312T100000
END:DAYLIGHT
BEGIN:STANDARD
TZOFFSETFROM:-0700
TZOFFSETTO:-0800
TZNAME:PST
DTSTART:20231105T090000
END:STANDARD
BEGIN:DAYLIGHT
TZOFFSETFROM:-0800
TZOFFSETTO:-0700
TZNAME:PDT
DTSTART:20240310T100000
END:DAYLIGHT
BEGIN:STANDARD
TZOFFSETFROM:-0700
TZOFFSETTO:-0800
TZNAME:PST
DTSTART:20241103T090000
END:STANDARD
END:VTIMEZONE
BEGIN:VEVENT
DTSTART;TZID=America/Los_Angeles:20230718T160000
DTEND;TZID=America/Los_Angeles:20230718T210000
DTSTAMP:20260422T183334
CREATED:20230713T111328Z
LAST-MODIFIED:20230713T111328Z
UID:10000002-1689696000-1689714000@psphillys.com
SUMMARY:Hacienda Nights
DESCRIPTION:
URL:https://psphillys.com/event/hacienda-nights/
LOCATION:Hacienda De Las Flores by Wedgewood Weddings\, 2100 Donald Dr\, Moraga\, CA 94556\, USA
END:VEVENT
BEGIN:VEVENT
DTSTART;TZID=America/Los_Angeles:20240618T160000
DTEND;TZID=America/Los_Angeles:20240618T210000
DTSTAMP:20260422T183334
CREATED:20240209T080018Z
LAST-MODIFIED:20240209T080018Z
UID:10000088-1718726400-1718744400@psphillys.com
SUMMARY:Hacienda nights
DESCRIPTION:
URL:https://psphillys.com/event/hacienda-nights-2/
LOCATION:Hacienda De Las Flores by Wedgewood Weddings\, 2100 Donald Dr\, Moraga\, CA 94556\, USA
ORGANIZER;CN="lauren.farrell%40offthegridsf.com":MAILTO:lauren_farrell@offthegridsf_com
END:VEVENT
BEGIN:VEVENT
DTSTART;TZID=America/Los_Angeles:20240716T160000
DTEND;TZID=America/Los_Angeles:20240716T210000
DTSTAMP:20260422T183334
CREATED:20240209T080018Z
LAST-MODIFIED:20240209T080018Z
UID:10000089-1721145600-1721163600@psphillys.com
SUMMARY:Hacienda nights
DESCRIPTION:
URL:https://psphillys.com/event/hacienda-nights-3/
LOCATION:Hacienda De Las Flores by Wedgewood Weddings\, 2100 Donald Dr\, Moraga\, CA 94556\, USA
ORGANIZER;CN="lauren.farrell%40offthegridsf.com":MAILTO:lauren_farrell@offthegridsf_com
END:VEVENT
BEGIN:VEVENT
DTSTART;TZID=America/Los_Angeles:20240806T160000
DTEND;TZID=America/Los_Angeles:20240806T210000
DTSTAMP:20260422T183334
CREATED:20240325T214232Z
LAST-MODIFIED:20240325T214232Z
UID:10000139-1722960000-1722978000@psphillys.com
SUMMARY:Hacienda nights
DESCRIPTION:
URL:https://psphillys.com/event/hacienda-nights-4/
LOCATION:Hacienda De Las Flores by Wedgewood Weddings\, 2100 Donald Dr\, Moraga\, CA 94556\, USA
ORGANIZER;CN="lauren.farrell%40offthegridsf.com":MAILTO:lauren_farrell@offthegridsf_com
END:VEVENT
END:VCALENDAR