BEGIN:VCALENDAR
VERSION:2.0
PRODID:-//P&#039;s Phillys - ECPv6.1.2.2//NONSGML v1.0//EN
CALSCALE:GREGORIAN
METHOD:PUBLISH
X-ORIGINAL-URL:https://psphillys.com
X-WR-CALDESC:Events for P&#039;s Phillys
REFRESH-INTERVAL;VALUE=DURATION:PT1H
X-Robots-Tag:noindex
X-PUBLISHED-TTL:PT1H
BEGIN:VTIMEZONE
TZID:America/Los_Angeles
BEGIN:DAYLIGHT
TZOFFSETFROM:-0800
TZOFFSETTO:-0700
TZNAME:PDT
DTSTART:20230312T100000
END:DAYLIGHT
BEGIN:STANDARD
TZOFFSETFROM:-0700
TZOFFSETTO:-0800
TZNAME:PST
DTSTART:20231105T090000
END:STANDARD
BEGIN:DAYLIGHT
TZOFFSETFROM:-0800
TZOFFSETTO:-0700
TZNAME:PDT
DTSTART:20240310T100000
END:DAYLIGHT
BEGIN:STANDARD
TZOFFSETFROM:-0700
TZOFFSETTO:-0800
TZNAME:PST
DTSTART:20241103T090000
END:STANDARD
END:VTIMEZONE
BEGIN:VEVENT
DTSTART;TZID=America/Los_Angeles:20231020T163000
DTEND;TZID=America/Los_Angeles:20231020T190000
DTSTAMP:20260420T111920
CREATED:20230916T003825Z
LAST-MODIFIED:20230916T003825Z
UID:10000038-1697819400-1697828400@psphillys.com
SUMMARY:Fall Carnival
DESCRIPTION:
URL:https://psphillys.com/event/fall-carnival/
LOCATION:Donald L. Rheem Elementary School\, 90 Laird Dr\, Moraga\, CA 94556\, USA
ORGANIZER;CN="francesca.palala%40offthegridsf.com":MAILTO:francesca_palala@offthegridsf_com
END:VEVENT
BEGIN:VEVENT
DTSTART;TZID=America/Los_Angeles:20241018T163000
DTEND;TZID=America/Los_Angeles:20241018T183000
DTSTAMP:20260420T111920
CREATED:20240917T083819Z
LAST-MODIFIED:20240917T083819Z
UID:10000220-1729269000-1729276200@psphillys.com
SUMMARY:Rheem Elementary
DESCRIPTION:
URL:https://psphillys.com/event/rheem-elementary/
LOCATION:Donald L. Rheem Elementary School\, 90 Laird Dr\, Moraga\, CA 94556\, USA
ORGANIZER;CN="lauren.farrell%40offthegridsf.com":MAILTO:lauren_farrell@offthegridsf_com
END:VEVENT
END:VCALENDAR