BEGIN:VCALENDAR
VERSION:2.0
PRODID:-//P&#039;s Phillys - ECPv6.1.2.2//NONSGML v1.0//EN
CALSCALE:GREGORIAN
METHOD:PUBLISH
X-WR-CALNAME:P&#039;s Phillys
X-ORIGINAL-URL:https://psphillys.com
X-WR-CALDESC:Events for P&#039;s Phillys
REFRESH-INTERVAL;VALUE=DURATION:PT1H
X-Robots-Tag:noindex
X-PUBLISHED-TTL:PT1H
BEGIN:VTIMEZONE
TZID:America/Los_Angeles
BEGIN:DAYLIGHT
TZOFFSETFROM:-0800
TZOFFSETTO:-0700
TZNAME:PDT
DTSTART:20230312T100000
END:DAYLIGHT
BEGIN:STANDARD
TZOFFSETFROM:-0700
TZOFFSETTO:-0800
TZNAME:PST
DTSTART:20231105T090000
END:STANDARD
END:VTIMEZONE
BEGIN:VEVENT
DTSTART;TZID=America/Los_Angeles:20230902T110000
DTEND;TZID=America/Los_Angeles:20230902T140000
DTSTAMP:20260421T120358
CREATED:20230828T235736Z
LAST-MODIFIED:20230828T235736Z
UID:10000026-1693652400-1693663200@psphillys.com
SUMMARY:FTM private
DESCRIPTION:Date: Sept 2ndTime of Event: 11:00-2:00\, must arrive by 10:15 to avoid a late fee.Address: 1700 Club House Dr\, Diablo. Attendee: 200 guests (2 trucks)Guaranteed: $1\,500 in sales. This is an open tab event. You must minimize your menu to only offer 2-3 items only. You must keep track of your sales.  NO prices may be shown on your menu. You will be paid for the total amount of sales if gone over the guaranteed amount at the end of the event. Fee: 10% of total sales
URL:https://psphillys.com/event/ftm-private-2/
LOCATION:Diablo Country Club\, 1700 Club House Rd\, Diablo\, CA 94526\, USA
ORGANIZER;CN="francesca.palala%40offthegridsf.com":MAILTO:francesca_palala@offthegridsf_com
END:VEVENT
END:VCALENDAR