BEGIN:VCALENDAR
VERSION:2.0
PRODID:-//P&#039;s Phillys - ECPv6.1.2.2//NONSGML v1.0//EN
CALSCALE:GREGORIAN
METHOD:PUBLISH
X-WR-CALNAME:P&#039;s Phillys
X-ORIGINAL-URL:https://psphillys.com
X-WR-CALDESC:Events for P&#039;s Phillys
REFRESH-INTERVAL;VALUE=DURATION:PT1H
X-Robots-Tag:noindex
X-PUBLISHED-TTL:PT1H
BEGIN:VTIMEZONE
TZID:America/Los_Angeles
BEGIN:DAYLIGHT
TZOFFSETFROM:-0800
TZOFFSETTO:-0700
TZNAME:PDT
DTSTART:20240310T100000
END:DAYLIGHT
BEGIN:STANDARD
TZOFFSETFROM:-0700
TZOFFSETTO:-0800
TZNAME:PST
DTSTART:20241103T090000
END:STANDARD
END:VTIMEZONE
BEGIN:VEVENT
DTSTART;TZID=America/Los_Angeles:20240419T180000
DTEND;TZID=America/Los_Angeles:20240419T200000
DTSTAMP:20260424T104923
CREATED:20240315T201747Z
LAST-MODIFIED:20240315T201747Z
UID:10000100-1713549600-1713556800@psphillys.com
SUMMARY:American High
DESCRIPTION:I am looking for 4 savory and 1 dessert truck to attend an Annual Night Market for American High School. We have done this event the past couple of years and trucks do well. \nDate: April 19thTime of Event: 6:00-8:00\, must arrive by 5:30 to avoid the late feeAddress: 36300 Fremont Blvd\, Fremont. Trucks will be parking behind the School in the large parking lot.Fee: $45+10% of total sales
URL:https://psphillys.com/event/american-high/
LOCATION:American High School\, 36300 Fremont Blvd\, Fremont\, CA 94536\, USA
ORGANIZER;CN="lauren.farrell%40offthegridsf.com":MAILTO:lauren_farrell@offthegridsf_com
END:VEVENT
END:VCALENDAR