BEGIN:VCALENDAR
VERSION:2.0
PRODID:-//P&#039;s Phillys - ECPv6.1.2.2//NONSGML v1.0//EN
CALSCALE:GREGORIAN
METHOD:PUBLISH
X-ORIGINAL-URL:https://psphillys.com
X-WR-CALDESC:Events for P&#039;s Phillys
REFRESH-INTERVAL;VALUE=DURATION:PT1H
X-Robots-Tag:noindex
X-PUBLISHED-TTL:PT1H
BEGIN:VTIMEZONE
TZID:America/Los_Angeles
BEGIN:DAYLIGHT
TZOFFSETFROM:-0800
TZOFFSETTO:-0700
TZNAME:PDT
DTSTART:20230312T100000
END:DAYLIGHT
BEGIN:STANDARD
TZOFFSETFROM:-0700
TZOFFSETTO:-0800
TZNAME:PST
DTSTART:20231105T090000
END:STANDARD
END:VTIMEZONE
BEGIN:VEVENT
DTSTART;TZID=America/Los_Angeles:20230912T120000
DTEND;TZID=America/Los_Angeles:20230912T133000
DTSTAMP:20260417T010704
CREATED:20230817T101535Z
LAST-MODIFIED:20230817T101535Z
UID:10000022-1694520000-1694525400@psphillys.com
SUMMARY:Otg private
DESCRIPTION:Servings: 100 entrees + sides + beverages*GF\, Vegan\, vegetarian options*Please offer to-go for additional servingsGuest count: 100
URL:https://psphillys.com/event/otg-private/
LOCATION:555 Ellis St\, Mountain View\, CA 94043\, USA
END:VEVENT
END:VCALENDAR