BEGIN:VCALENDAR
VERSION:2.0
PRODID:-//P&#039;s Phillys - ECPv6.1.2.2//NONSGML v1.0//EN
CALSCALE:GREGORIAN
METHOD:PUBLISH
X-WR-CALNAME:P&#039;s Phillys
X-ORIGINAL-URL:https://psphillys.com
X-WR-CALDESC:Events for P&#039;s Phillys
REFRESH-INTERVAL;VALUE=DURATION:PT1H
X-Robots-Tag:noindex
X-PUBLISHED-TTL:PT1H
BEGIN:VTIMEZONE
TZID:America/Los_Angeles
BEGIN:DAYLIGHT
TZOFFSETFROM:-0800
TZOFFSETTO:-0700
TZNAME:PDT
DTSTART:20230312T100000
END:DAYLIGHT
BEGIN:STANDARD
TZOFFSETFROM:-0700
TZOFFSETTO:-0800
TZNAME:PST
DTSTART:20231105T090000
END:STANDARD
END:VTIMEZONE
BEGIN:VEVENT
DTSTART;TZID=America/Los_Angeles:20231217T160000
DTEND;TZID=America/Los_Angeles:20231217T210000
DTSTAMP:20260420T104545
CREATED:20231214T075014Z
LAST-MODIFIED:20231214T075014Z
UID:10000077-1702828800-1702846800@psphillys.com
SUMMARY:3 crosses
DESCRIPTION:Good Afternoon Everyone!  \nI would like to thank each of you for willing to come to our Church Campus in the month of December! We look forward to seeing you here and working with you. I would like to let you know that attached is the schedule of the dates we reserved. I have also attached a map of where you will be in our parking lot. You can come in as early as 5 pm to set up\, if you need to come in earlier please let me know.  \nFriendly reminder alcohol cannot be sold on our campus. I would also like to remind you that if it rains that day our event will be cancelled.  \nI would also like to let you know that I will be going on Maternity starting 11/30/21. If you have any questions please let me know or you can contact Heather. I have put her email and direct phone number below. \nEmail: heather@3crosses.org Cell Phone: 510-514-4230
URL:https://psphillys.com/event/3-crosses/
LOCATION:3 crosses church
ORGANIZER;CN="lauren.farrell%40offthegridsf.com":MAILTO:lauren_farrell@offthegridsf_com
END:VEVENT
END:VCALENDAR