BEGIN:VCALENDAR
VERSION:2.0
PRODID:-//P&#039;s Phillys - ECPv6.1.2.2//NONSGML v1.0//EN
CALSCALE:GREGORIAN
METHOD:PUBLISH
X-WR-CALNAME:P&#039;s Phillys
X-ORIGINAL-URL:https://psphillys.com
X-WR-CALDESC:Events for P&#039;s Phillys
REFRESH-INTERVAL;VALUE=DURATION:PT1H
X-Robots-Tag:noindex
X-PUBLISHED-TTL:PT1H
BEGIN:VTIMEZONE
TZID:America/Los_Angeles
BEGIN:DAYLIGHT
TZOFFSETFROM:-0800
TZOFFSETTO:-0700
TZNAME:PDT
DTSTART:20230312T100000
END:DAYLIGHT
BEGIN:STANDARD
TZOFFSETFROM:-0700
TZOFFSETTO:-0800
TZNAME:PST
DTSTART:20231105T090000
END:STANDARD
END:VTIMEZONE
BEGIN:VEVENT
DTSTART;TZID=America/Los_Angeles:20231110T110000
DTEND;TZID=America/Los_Angeles:20231110T170000
DTSTAMP:20260425T153047
CREATED:20231110T204729Z
LAST-MODIFIED:20231110T204729Z
UID:10000072-1699614000-1699635600@psphillys.com
SUMMARY:Card show
DESCRIPTION:
URL:https://psphillys.com/event/card-show-2/
LOCATION:255 S Airport Blvd\, South San Francisco\, CA 94080\, USA
ORGANIZER;CN="lauren.farrell%40offthegridsf.com":MAILTO:lauren_farrell@offthegridsf_com
END:VEVENT
BEGIN:VEVENT
DTSTART;TZID=America/Los_Angeles:20231102T110000
DTEND;TZID=America/Los_Angeles:20231102T140000
DTSTAMP:20260425T153047
CREATED:20231026T185909Z
LAST-MODIFIED:20231026T185909Z
UID:10000068-1698922800-1698933600@psphillys.com
SUMMARY:Amazon private
DESCRIPTION:
URL:https://psphillys.com/event/amazon-private-2/
LOCATION:3075 Olcott St\, Santa Clara\, CA 95054\, USA
ORGANIZER;CN="lauren.farrell%40offthegridsf.com":MAILTO:lauren_farrell@offthegridsf_com
END:VEVENT
BEGIN:VEVENT
DTSTART;TZID=America/Los_Angeles:20231028T170000
DTEND;TZID=America/Los_Angeles:20231028T190000
DTSTAMP:20260425T153047
CREATED:20231017T155832Z
LAST-MODIFIED:20231017T155832Z
UID:10000067-1698512400-1698519600@psphillys.com
SUMMARY:Philly Private
DESCRIPTION:100 guests22/person Entree and side (Tenders counted as entree as well) \nJen Corbett
URL:https://psphillys.com/event/philly-private/
ORGANIZER;CN="lauren.farrell%40offthegridsf.com":MAILTO:lauren_farrell@offthegridsf_com
END:VEVENT
BEGIN:VEVENT
DTSTART;TZID=America/Los_Angeles:20231027T170000
DTEND;TZID=America/Los_Angeles:20231027T220000
DTSTAMP:20260425T153047
CREATED:20230923T101257Z
LAST-MODIFIED:20230923T101257Z
UID:10000050-1698426000-1698444000@psphillys.com
SUMMARY:Fort Mason OTG
DESCRIPTION:
URL:https://psphillys.com/event/fort-mason-otg/
LOCATION:2 Marina Blvd\, San Francisco\, CA 94123\, USA
ORGANIZER;CN="lauren.farrell%40offthegridsf.com":MAILTO:lauren_farrell@offthegridsf_com
END:VEVENT
BEGIN:VEVENT
DTSTART;TZID=America/Los_Angeles:20231027T120000
DTEND;TZID=America/Los_Angeles:20231027T140000
DTSTAMP:20260425T153047
CREATED:20231009T193803Z
LAST-MODIFIED:20231009T193803Z
UID:10000063-1698408000-1698415200@psphillys.com
SUMMARY:Private Philly with GGG TRUCK
DESCRIPTION:80 people  \nP’s Phillys MENU:  \nLoaded P (Steak\, Mayo\, mushrooms\, onions\, peppers\, melted cheese) \nPerky P (Chicken\, mayo\, mushrooms\, onions\, peppers\, melted cheese) \nVeggie P (Spinach\, mushrooms\, onions\, peppers\, Mayo & melted cheese)  \nSIDE: Fries \nDRINK. Soda or water  \nThat would come out to $1600 subtotal  before tax and service charge
URL:https://psphillys.com/event/private-philly-with-ggg-truck/
ORGANIZER;CN="lauren.farrell%40offthegridsf.com":MAILTO:lauren_farrell@offthegridsf_com
END:VEVENT
BEGIN:VEVENT
DTSTART;TZID=America/Los_Angeles:20231021T113000
DTEND;TZID=America/Los_Angeles:20231021T150000
DTSTAMP:20260425T153047
CREATED:20231014T074803Z
LAST-MODIFIED:20231014T074803Z
UID:10000066-1697887800-1697900400@psphillys.com
SUMMARY:Dominican University
DESCRIPTION:$10 all inclusive 100 gurantee
URL:https://psphillys.com/event/dominican-university/
LOCATION:50 Acacia Ave\, San Rafael\, CA 94901\, USA
ORGANIZER;CN="lauren.farrell%40offthegridsf.com":MAILTO:lauren_farrell@offthegridsf_com
END:VEVENT
BEGIN:VEVENT
DTSTART;TZID=America/Los_Angeles:20231018T110000
DTEND;TZID=America/Los_Angeles:20231018T140000
DTSTAMP:20260425T153047
CREATED:20231006T224342Z
LAST-MODIFIED:20231006T224342Z
UID:10000062-1697626800-1697637600@psphillys.com
SUMMARY:Private
DESCRIPTION:
URL:https://psphillys.com/event/private/
ORGANIZER;CN="lauren.farrell%40offthegridsf.com":MAILTO:lauren_farrell@offthegridsf_com
END:VEVENT
BEGIN:VEVENT
DTSTART;TZID=America/Los_Angeles:20231018T110000
DTEND;TZID=America/Los_Angeles:20231018T120000
DTSTAMP:20260425T153047
CREATED:20231003T204710Z
LAST-MODIFIED:20231003T204710Z
UID:10000057-1697626800-1697630400@psphillys.com
SUMMARY:OTG PRIVATE
DESCRIPTION:TRUCK SERVICESAVORY CREATORS: 120 Entrees + sides \nP’s Phillys MENU:Loaded P (Steak\, Mayo\, mushrooms\, onions\, peppers\, melted cheese) \nPerky P (Chicken\, mayo\, mushrooms\, onions\, peppers\, melted cheese) \nVeggie P (Spinach\, mushrooms\, onions\, peppers\, Mayo & melted cheese)SIDE: Fries
URL:https://psphillys.com/event/otg-private-3/
LOCATION:5019 Imhoff Pl\, Martinez\, CA 94553\, USA
ORGANIZER;CN="lauren.farrell%40offthegridsf.com":MAILTO:lauren_farrell@offthegridsf_com
END:VEVENT
BEGIN:VEVENT
DTSTART;TZID=America/Los_Angeles:20231014T150000
DTEND;TZID=America/Los_Angeles:20231014T200000
DTSTAMP:20260425T153047
CREATED:20231010T234755Z
LAST-MODIFIED:20231010T234755Z
UID:10000065-1697295600-1697313600@psphillys.com
SUMMARY:Oakland roots
DESCRIPTION:
URL:https://psphillys.com/event/oakland-roots-4/
ORGANIZER;CN="lauren.farrell%40offthegridsf.com":MAILTO:lauren_farrell@offthegridsf_com
END:VEVENT
BEGIN:VEVENT
DTSTART;TZID=America/Los_Angeles:20231014T103000
DTEND;TZID=America/Los_Angeles:20231014T150000
DTSTAMP:20260425T153047
CREATED:20231010T234755Z
LAST-MODIFIED:20231010T234755Z
UID:10000064-1697279400-1697295600@psphillys.com
SUMMARY:College Park High Homecoming game
DESCRIPTION:
URL:https://psphillys.com/event/college-park-high-homecoming-game/
LOCATION:College Park High School\, 201 Viking Dr\, Pleasant Hill\, CA 94523\, USA
ORGANIZER;CN="lauren.farrell%40offthegridsf.com":MAILTO:lauren_farrell@offthegridsf_com
END:VEVENT
BEGIN:VEVENT
DTSTART;TZID=America/Los_Angeles:20231013T170000
DTEND;TZID=America/Los_Angeles:20231013T200000
DTSTAMP:20260425T153047
CREATED:20231005T070111Z
LAST-MODIFIED:20231005T070111Z
UID:10000058-1697216400-1697227200@psphillys.com
SUMMARY:OMCA
DESCRIPTION:Hello Golden Gate Gyro Team\, \nYou have been confirmed for and assigned to the following event: \nEvent Name: Friday Nights at OMCA \nEvent Date / Start Time: 6/17/2022 5:00 PM \nCreator Arrival Time : 30 minutes before the scheduled Start time. \nCreator Departure Time: 30 Minutes after the event ends \nPlease let us know if you have any questions or if you’ve found this message as an error! \nThank you!
URL:https://psphillys.com/event/omca-6/
LOCATION:Oakland Museum of California (OMCA)\, 1000 Oak St\, Oakland\, CA 94607\, USA
ORGANIZER;CN="lauren.farrell%40offthegridsf.com":MAILTO:lauren_farrell@offthegridsf_com
END:VEVENT
BEGIN:VEVENT
DTSTART;TZID=America/Los_Angeles:20231011T113000
DTEND;TZID=America/Los_Angeles:20231011T134500
DTSTAMP:20260425T153047
CREATED:20231003T030925Z
LAST-MODIFIED:20231003T030925Z
UID:10000056-1697023800-1697031900@psphillys.com
SUMMARY:CA plaza
DESCRIPTION:
URL:https://psphillys.com/event/ca-plaza/
LOCATION:2121 N California Blvd\, Walnut Creek\, CA 94596\, USA
ORGANIZER;CN="lauren.farrell%40offthegridsf.com":MAILTO:lauren_farrell@offthegridsf_com
END:VEVENT
BEGIN:VEVENT
DTSTART;TZID=America/Los_Angeles:20231006T170000
DTEND;TZID=America/Los_Angeles:20231006T200000
DTSTAMP:20260425T153047
CREATED:20230929T092112Z
LAST-MODIFIED:20230929T092112Z
UID:10000054-1696611600-1696622400@psphillys.com
SUMMARY:OMCA
DESCRIPTION:Hello Golden Gate Gyro Team\, \nYou have been confirmed for and assigned to the following event: \nEvent Name: Friday Nights at OMCA \nEvent Date / Start Time: 6/17/2022 5:00 PM \nCreator Arrival Time : 30 minutes before the scheduled Start time. \nCreator Departure Time: 30 Minutes after the event ends \nPlease let us know if you have any questions or if you’ve found this message as an error! \nThank you!
URL:https://psphillys.com/event/omca-5/
LOCATION:Oakland Museum of California (OMCA)\, 1000 Oak St\, Oakland\, CA 94607\, USA
ORGANIZER;CN="lauren.farrell%40offthegridsf.com":MAILTO:lauren_farrell@offthegridsf_com
END:VEVENT
BEGIN:VEVENT
DTSTART;TZID=America/Los_Angeles:20231005T160000
DTEND;TZID=America/Los_Angeles:20231005T190000
DTSTAMP:20260425T153047
CREATED:20231002T143739Z
LAST-MODIFIED:20231002T143739Z
UID:10000055-1696521600-1696532400@psphillys.com
SUMMARY:Wagner Ranch Elementary
DESCRIPTION:
URL:https://psphillys.com/event/wagner-ranch-elementary/
LOCATION:Wagner Ranch Elementary School\, 350 Camino Pablo\, Orinda\, CA 94563\, USA
ORGANIZER;CN="lauren.farrell%40offthegridsf.com":MAILTO:lauren_farrell@offthegridsf_com
END:VEVENT
BEGIN:VEVENT
DTSTART;TZID=America/Los_Angeles:20231004T140000
DTEND;TZID=America/Los_Angeles:20231004T150000
DTSTAMP:20260425T153047
CREATED:20230928T171902Z
LAST-MODIFIED:20230928T171902Z
UID:10000052-1696428000-1696431600@psphillys.com
SUMMARY:Amazon Private
DESCRIPTION:905 11th Ave\, Sunnyvale CA 94089
URL:https://psphillys.com/event/amazon-private/
LOCATION:905 11th Ave\, Sunnyvale CA 94089
ORGANIZER;CN="lauren.farrell%40offthegridsf.com":MAILTO:lauren_farrell@offthegridsf_com
END:VEVENT
BEGIN:VEVENT
DTSTART;TZID=America/Los_Angeles:20231003T113000
DTEND;TZID=America/Los_Angeles:20231003T140000
DTSTAMP:20260425T153047
CREATED:20230929T092112Z
LAST-MODIFIED:20230929T092112Z
UID:10000053-1696332600-1696341600@psphillys.com
SUMMARY:Gilead Private
DESCRIPTION:Event Name: GileadDate: 5/26/22Arrive By: 10:30amStart of Service: 11:30amEnd of Service: 2pm \nLocation: Gilead 309 Velocity way & 331 Lakeside Dr. \nNumber of Servings: 500 small plates per truck$3000 PAYOUT \nLineup & Location – See below for parking locations309 Velocity Way(new layout\, see photo) – I Love Cheesesteaks\, Melina’s Kitchen\, BunBao\, 333\, Vegan Mob\, IVSF331 Lakeside Drive – El Sur\, Korean Bobcha\, Hula Truck\, Southern Comfort Kitchen\, Speedy Panini\, Golden Gate Gyro\, \n309 parking lot NEW PARKING LOCATION
URL:https://psphillys.com/event/gilead-private-2/
LOCATION:309 Velocity Way\, Foster City\, CA 94404\, USA
ORGANIZER;CN="lauren.farrell%40offthegridsf.com":MAILTO:lauren_farrell@offthegridsf_com
END:VEVENT
BEGIN:VEVENT
DTSTART;TZID=America/Los_Angeles:20230930T150000
DTEND;TZID=America/Los_Angeles:20230930T200000
DTSTAMP:20260425T153047
CREATED:20230922T011035Z
LAST-MODIFIED:20230922T011035Z
UID:10000047-1696086000-1696104000@psphillys.com
SUMMARY:Oakland roots
DESCRIPTION:
URL:https://psphillys.com/event/oakland-roots-3/
ORGANIZER;CN="lauren.farrell%40offthegridsf.com":MAILTO:lauren_farrell@offthegridsf_com
END:VEVENT
BEGIN:VEVENT
DTSTART;TZID=America/Los_Angeles:20230930T120000
DTEND;TZID=America/Los_Angeles:20230930T140000
DTSTAMP:20260425T153047
CREATED:20230923T014741Z
LAST-MODIFIED:20230923T014741Z
UID:10000049-1696075200-1696082400@psphillys.com
SUMMARY:FTM PRIVATE
DESCRIPTION:Date: September 30thTime of Event: 12-2pm\, must arrive by 11:15 to avoid late feeAddress: 4350 Rosewood Dr\, Pleasanton \nGuaranteed: 100 tickets @ $20 per ticket. Each ticket includes a meal and beverage. You will be paid via check for the guaranteed amount and credit card if gone over the guaranteed amount at the end of the event for the total amount of tickets collected. You may NOT have any prices listed on your menu. You MUST customize your menu to only offer $20 items including a beverage. \nFee: 10% of total sales
URL:https://psphillys.com/event/ftm-private-3/
LOCATION:4350 Rosewood Dr\, Pleasanton\, CA 94588\, USA
ORGANIZER;CN="lauren.farrell%40offthegridsf.com":MAILTO:lauren_farrell@offthegridsf_com
END:VEVENT
BEGIN:VEVENT
DTSTART;TZID=America/Los_Angeles:20230927T113000
DTEND;TZID=America/Los_Angeles:20230927T140000
DTSTAMP:20260425T153047
CREATED:20230924T170856Z
LAST-MODIFIED:20230924T170856Z
UID:10000051-1695814200-1695823200@psphillys.com
SUMMARY:Otg private
DESCRIPTION:TRUCK SERVICE – 150 Regular Service Entrees; 1 meal per personDIETARY BREAKDOWN:10% vegetarian5% vegan5% GF5% dairy-free*rest meatDETAILS:– Meals must be prepped ahead of time & served QUICKLY– UTENSILS & PLATES MUST BE THE SAME AS THE ONES YOU USE AT GILEAD (ie wooden utensils only\, no plastic\, no regular compostable\, paper/fiber plates)– Be prepared with some additional ingredients incase overages are requested– YOU MUST BE ON TIME– 4 Trucks Total– If you are running late\, you need to let Beau know asap at (628) 217-3291
URL:https://psphillys.com/event/otg-private-2/
LOCATION:3301 Crow Canyon Rd\, San Ramon\, CA 94583\, USA
ORGANIZER;CN="lauren.farrell%40offthegridsf.com":MAILTO:lauren_farrell@offthegridsf_com
END:VEVENT
BEGIN:VEVENT
DTSTART;TZID=America/Los_Angeles:20230921T120000
DTEND;TZID=America/Los_Angeles:20230921T130000
DTSTAMP:20260425T153047
CREATED:20230921T192340Z
LAST-MODIFIED:20230921T192340Z
UID:10000046-1695297600-1695301200@psphillys.com
SUMMARY:[Virtual] FMC Creator Orientation
DESCRIPTION:Join with Google Meet: https://meet.google.com/icw-vhzu-azeOr dial: (US) +1 323-538-3490 PIN: 175368681#More phone numbers: https://tel.meet/icw-vhzu-aze?pin=6301187063822&hs=7 \nLearn more about Meet at: https://support.google.com/a/users/answer/9282720
URL:https://psphillys.com/event/virtual-fmc-creator-orientation/
ORGANIZER;CN="lauren.farrell%40offthegridsf.com":MAILTO:lauren_farrell@offthegridsf_com
END:VEVENT
END:VCALENDAR